BEGIN:VCALENDAR
VERSION:2.0
PRODID:-//Canada Bay Club - ECPv6.15.20//NONSGML v1.0//EN
CALSCALE:GREGORIAN
METHOD:PUBLISH
X-WR-CALNAME:Canada Bay Club
X-ORIGINAL-URL:https://canadabayclub.com.au
X-WR-CALDESC:Events for Canada Bay Club
REFRESH-INTERVAL;VALUE=DURATION:PT1H
X-Robots-Tag:noindex
X-PUBLISHED-TTL:PT1H
BEGIN:VTIMEZONE
TZID:Australia/Sydney
BEGIN:STANDARD
TZOFFSETFROM:+1100
TZOFFSETTO:+1000
TZNAME:AEST
DTSTART:20250405T160000
END:STANDARD
BEGIN:DAYLIGHT
TZOFFSETFROM:+1000
TZOFFSETTO:+1100
TZNAME:AEDT
DTSTART:20251004T160000
END:DAYLIGHT
BEGIN:STANDARD
TZOFFSETFROM:+1100
TZOFFSETTO:+1000
TZNAME:AEST
DTSTART:20260404T160000
END:STANDARD
BEGIN:DAYLIGHT
TZOFFSETFROM:+1000
TZOFFSETTO:+1100
TZNAME:AEDT
DTSTART:20261003T160000
END:DAYLIGHT
BEGIN:STANDARD
TZOFFSETFROM:+1100
TZOFFSETTO:+1000
TZNAME:AEST
DTSTART:20270403T160000
END:STANDARD
BEGIN:DAYLIGHT
TZOFFSETFROM:+1000
TZOFFSETTO:+1100
TZNAME:AEDT
DTSTART:20271002T160000
END:DAYLIGHT
END:VTIMEZONE
BEGIN:VEVENT
DTSTART;TZID=Australia/Sydney:20260414T100000
DTEND;TZID=Australia/Sydney:20260421T110000
DTSTAMP:20260421T014120
CREATED:20260111T234622Z
LAST-MODIFIED:20260312T015737Z
UID:10018107-1776160800-1776769200@canadabayclub.com.au
SUMMARY:Fitness
DESCRIPTION:Senior Fitness 10.15am – 11am \n\n\n\nDeveloped in partnership with Vision Personal Training Five Dock\, the program offers structured\, low-impact group fitness sessions designed specifically for seniors. These sessions aim to support physical health\, mobility\, and overall wellbeing in a safe and supportive environment. \n\n\n\nClass Schedule: Monday\, Tuesday\, Wednesday\, Friday – Sessions run 10.15am – 11am \n\n\n\nLed by experienced trainers: Daniel (Vision Personal Training Five Dock); Marcus (Vision Personal Training Five Dock) \n\n\n\nSession Cost & Access\n\n\n\n\n$5 per session\, booking required. \n\n\n\nMembers can pre-book multiple sessions for convenience\n\n\n\nAll participants must swipe their membership card at entry\n\n\n\n\n\nBook now\n\n\n\n\n\n\n\n\nExclusive Member Rewards\n\n\n\nEarn 1 point per session by swiping your card.After attending 10 sessions\, members will receive: \n\n\n\n1 complimentary coffeeBoth rewards are automatically credited to your membership card. \n\n\n\n1 FREE fitness session
URL:https://canadabayclub.com.au/event/fitness/2026-04-14/
LOCATION:Canada Bay Club\, 8 William Street\, Five Dock\, NSW\, 2046\, Australia
CATEGORIES:Sports & Fitness
ATTACH;FMTTYPE=image/jpeg:https://canadabayclub.com.au/wp-content/uploads/2025/07/Vision-Training-Screen-05-scaled.jpg
END:VEVENT
BEGIN:VEVENT
DTSTART;TZID=Australia/Sydney:20260415T100000
DTEND;TZID=Australia/Sydney:20260422T110000
DTSTAMP:20260421T014120
CREATED:20260111T234622Z
LAST-MODIFIED:20260312T015737Z
UID:10018108-1776247200-1776855600@canadabayclub.com.au
SUMMARY:Fitness
DESCRIPTION:Senior Fitness 10.15am – 11am \n\n\n\nDeveloped in partnership with Vision Personal Training Five Dock\, the program offers structured\, low-impact group fitness sessions designed specifically for seniors. These sessions aim to support physical health\, mobility\, and overall wellbeing in a safe and supportive environment. \n\n\n\nClass Schedule: Monday\, Tuesday\, Wednesday\, Friday – Sessions run 10.15am – 11am \n\n\n\nLed by experienced trainers: Daniel (Vision Personal Training Five Dock); Marcus (Vision Personal Training Five Dock) \n\n\n\nSession Cost & Access\n\n\n\n\n$5 per session\, booking required. \n\n\n\nMembers can pre-book multiple sessions for convenience\n\n\n\nAll participants must swipe their membership card at entry\n\n\n\n\n\nBook now\n\n\n\n\n\n\n\n\nExclusive Member Rewards\n\n\n\nEarn 1 point per session by swiping your card.After attending 10 sessions\, members will receive: \n\n\n\n1 complimentary coffeeBoth rewards are automatically credited to your membership card. \n\n\n\n1 FREE fitness session
URL:https://canadabayclub.com.au/event/fitness/2026-04-15/
LOCATION:Canada Bay Club\, 8 William Street\, Five Dock\, NSW\, 2046\, Australia
CATEGORIES:Sports & Fitness
ATTACH;FMTTYPE=image/jpeg:https://canadabayclub.com.au/wp-content/uploads/2025/07/Vision-Training-Screen-05-scaled.jpg
END:VEVENT
BEGIN:VEVENT
DTSTART;TZID=Australia/Sydney:20260417T100000
DTEND;TZID=Australia/Sydney:20260424T110000
DTSTAMP:20260421T014120
CREATED:20260111T234622Z
LAST-MODIFIED:20260312T015737Z
UID:10018109-1776420000-1777028400@canadabayclub.com.au
SUMMARY:Fitness
DESCRIPTION:Senior Fitness 10.15am – 11am \n\n\n\nDeveloped in partnership with Vision Personal Training Five Dock\, the program offers structured\, low-impact group fitness sessions designed specifically for seniors. These sessions aim to support physical health\, mobility\, and overall wellbeing in a safe and supportive environment. \n\n\n\nClass Schedule: Monday\, Tuesday\, Wednesday\, Friday – Sessions run 10.15am – 11am \n\n\n\nLed by experienced trainers: Daniel (Vision Personal Training Five Dock); Marcus (Vision Personal Training Five Dock) \n\n\n\nSession Cost & Access\n\n\n\n\n$5 per session\, booking required. \n\n\n\nMembers can pre-book multiple sessions for convenience\n\n\n\nAll participants must swipe their membership card at entry\n\n\n\n\n\nBook now\n\n\n\n\n\n\n\n\nExclusive Member Rewards\n\n\n\nEarn 1 point per session by swiping your card.After attending 10 sessions\, members will receive: \n\n\n\n1 complimentary coffeeBoth rewards are automatically credited to your membership card. \n\n\n\n1 FREE fitness session
URL:https://canadabayclub.com.au/event/fitness/2026-04-17/
LOCATION:Canada Bay Club\, 8 William Street\, Five Dock\, NSW\, 2046\, Australia
CATEGORIES:Sports & Fitness
ATTACH;FMTTYPE=image/jpeg:https://canadabayclub.com.au/wp-content/uploads/2025/07/Vision-Training-Screen-05-scaled.jpg
END:VEVENT
BEGIN:VEVENT
DTSTART;TZID=Australia/Sydney:20260420T100000
DTEND;TZID=Australia/Sydney:20260427T110000
DTSTAMP:20260421T014120
CREATED:20260111T234622Z
LAST-MODIFIED:20260312T015737Z
UID:10018110-1776679200-1777287600@canadabayclub.com.au
SUMMARY:Fitness
DESCRIPTION:Senior Fitness 10.15am – 11am \n\n\n\nDeveloped in partnership with Vision Personal Training Five Dock\, the program offers structured\, low-impact group fitness sessions designed specifically for seniors. These sessions aim to support physical health\, mobility\, and overall wellbeing in a safe and supportive environment. \n\n\n\nClass Schedule: Monday\, Tuesday\, Wednesday\, Friday – Sessions run 10.15am – 11am \n\n\n\nLed by experienced trainers: Daniel (Vision Personal Training Five Dock); Marcus (Vision Personal Training Five Dock) \n\n\n\nSession Cost & Access\n\n\n\n\n$5 per session\, booking required. \n\n\n\nMembers can pre-book multiple sessions for convenience\n\n\n\nAll participants must swipe their membership card at entry\n\n\n\n\n\nBook now\n\n\n\n\n\n\n\n\nExclusive Member Rewards\n\n\n\nEarn 1 point per session by swiping your card.After attending 10 sessions\, members will receive: \n\n\n\n1 complimentary coffeeBoth rewards are automatically credited to your membership card. \n\n\n\n1 FREE fitness session
URL:https://canadabayclub.com.au/event/fitness/2026-04-20/
LOCATION:Canada Bay Club\, 8 William Street\, Five Dock\, NSW\, 2046\, Australia
CATEGORIES:Sports & Fitness
ATTACH;FMTTYPE=image/jpeg:https://canadabayclub.com.au/wp-content/uploads/2025/07/Vision-Training-Screen-05-scaled.jpg
END:VEVENT
BEGIN:VEVENT
DTSTART;TZID=Australia/Sydney:20260421T080000
DTEND;TZID=Australia/Sydney:20260421T170000
DTSTAMP:20260421T014120
CREATED:20260312T015955Z
LAST-MODIFIED:20260312T020027Z
UID:10018871-1776758400-1776790800@canadabayclub.com.au
SUMMARY:Trivia Tuesdays
DESCRIPTION:Elevate your Tuesday nights with a blend of sharp wit\, social vibes\, and a touch of friendly competition. Whether you’re a local history buff or a pop-culture maven\, our Weekly Trivia is the perfect excuse to gather the crew and put your collective knowledge to the test. \n\n\n\nHosted at the bowlo\, it’s a sophisticated yet high-energy evening where the stakes are high and the entry is completely free.
URL:https://canadabayclub.com.au/event/trivia-tuesdays/2026-04-21/
LOCATION:Concord bowling club\, 1A Clermont Ave\, Concord NSW 2137
CATEGORIES:Games & Leisure
ATTACH;FMTTYPE=image/jpeg:https://canadabayclub.com.au/wp-content/uploads/2026/03/Trivia-2026UPDATED.jpg
END:VEVENT
BEGIN:VEVENT
DTSTART;TZID=Australia/Sydney:20260421T100000
DTEND;TZID=Australia/Sydney:20260428T110000
DTSTAMP:20260421T014120
CREATED:20260111T234622Z
LAST-MODIFIED:20260312T015737Z
UID:10018111-1776765600-1777374000@canadabayclub.com.au
SUMMARY:Fitness
DESCRIPTION:Senior Fitness 10.15am – 11am \n\n\n\nDeveloped in partnership with Vision Personal Training Five Dock\, the program offers structured\, low-impact group fitness sessions designed specifically for seniors. These sessions aim to support physical health\, mobility\, and overall wellbeing in a safe and supportive environment. \n\n\n\nClass Schedule: Monday\, Tuesday\, Wednesday\, Friday – Sessions run 10.15am – 11am \n\n\n\nLed by experienced trainers: Daniel (Vision Personal Training Five Dock); Marcus (Vision Personal Training Five Dock) \n\n\n\nSession Cost & Access\n\n\n\n\n$5 per session\, booking required. \n\n\n\nMembers can pre-book multiple sessions for convenience\n\n\n\nAll participants must swipe their membership card at entry\n\n\n\n\n\nBook now\n\n\n\n\n\n\n\n\nExclusive Member Rewards\n\n\n\nEarn 1 point per session by swiping your card.After attending 10 sessions\, members will receive: \n\n\n\n1 complimentary coffeeBoth rewards are automatically credited to your membership card. \n\n\n\n1 FREE fitness session
URL:https://canadabayclub.com.au/event/fitness/2026-04-21/
LOCATION:Canada Bay Club\, 8 William Street\, Five Dock\, NSW\, 2046\, Australia
CATEGORIES:Sports & Fitness
ATTACH;FMTTYPE=image/jpeg:https://canadabayclub.com.au/wp-content/uploads/2025/07/Vision-Training-Screen-05-scaled.jpg
END:VEVENT
BEGIN:VEVENT
DTSTART;TZID=Australia/Sydney:20260421T103000
DTEND;TZID=Australia/Sydney:20260421T120000
DTSTAMP:20260421T014120
CREATED:20250718T011024Z
LAST-MODIFIED:20250718T011025Z
UID:10016563-1776767400-1776772800@canadabayclub.com.au
SUMMARY:Bingo Deluxe
DESCRIPTION:Buy $3 books or $6 pets*. 20 Bingo Deluxe Games\, $30 points per game. Match the required amount of symbols on your winning full house bingo game to also win the matching bonus prize. Grand Jackpot up to $50\,000\, progressive Jackpot starts at $1000. Mega Jackpot up to $10\,000 progressive Jackpot starts at $500. \n\n\n\nPLUS GOLDEN CALL starting $100 Cash Jackpot after each session! \n\n\n\n*Min. purchase for loaded Pets is 2 books. No minors are permitted to play\, strictly 18 years and over. \n\n\n\nTP/02354
URL:https://canadabayclub.com.au/event/bingo-deluxe-mondays/2026-04-21/
LOCATION:Canada Bay Club\, 8 William Street\, Five Dock\, NSW\, 2046\, Australia
CATEGORIES:Games & Leisure
ATTACH;FMTTYPE=image/jpeg:https://canadabayclub.com.au/wp-content/uploads/2024/06/Bingo-Deluxe.jpg
END:VEVENT
BEGIN:VEVENT
DTSTART;TZID=Australia/Sydney:20260421T190000
DTEND;TZID=Australia/Sydney:20260421T213000
DTSTAMP:20260421T014120
CREATED:20250718T005944Z
LAST-MODIFIED:20260112T002222Z
UID:10018390-1776798000-1776807000@canadabayclub.com.au
SUMMARY:Poker Tuesday
DESCRIPTION:This APL Poker League tournament has $300 CASH up for grabs and is completely FREE (Free entry gives you a 5K stack\, optional $3 Double-Up to 10k). No rebuys\, no add-ons. Register by 7:00pm for early bird (5K) on completed drink card (3k for standard rego). Must be a Canada Bay Club to enter the tournament. $250 bonus cash prize for the season winner!! 
URL:https://canadabayclub.com.au/event/poker-tuesday/2026-04-21/
LOCATION:Canada Bay Club\, 8 William Street\, Five Dock\, NSW\, 2046\, Australia
CATEGORIES:Games & Leisure
ATTACH;FMTTYPE=image/jpeg:https://canadabayclub.com.au/wp-content/uploads/2024/06/poker-cards.jpg
END:VEVENT
END:VCALENDAR