BEGIN:VCALENDAR
VERSION:2.0
PRODID:-//Canada Bay Club - ECPv6.15.20//NONSGML v1.0//EN
CALSCALE:GREGORIAN
METHOD:PUBLISH
X-WR-CALNAME:Canada Bay Club
X-ORIGINAL-URL:https://canadabayclub.com.au
X-WR-CALDESC:Events for Canada Bay Club
REFRESH-INTERVAL;VALUE=DURATION:PT1H
X-Robots-Tag:noindex
X-PUBLISHED-TTL:PT1H
BEGIN:VTIMEZONE
TZID:Australia/Sydney
BEGIN:STANDARD
TZOFFSETFROM:+1100
TZOFFSETTO:+1000
TZNAME:AEST
DTSTART:20280401T160000
END:STANDARD
BEGIN:DAYLIGHT
TZOFFSETFROM:+1000
TZOFFSETTO:+1100
TZNAME:AEDT
DTSTART:20280930T160000
END:DAYLIGHT
BEGIN:STANDARD
TZOFFSETFROM:+1100
TZOFFSETTO:+1000
TZNAME:AEST
DTSTART:20290331T160000
END:STANDARD
BEGIN:DAYLIGHT
TZOFFSETFROM:+1000
TZOFFSETTO:+1100
TZNAME:AEDT
DTSTART:20291006T160000
END:DAYLIGHT
BEGIN:STANDARD
TZOFFSETFROM:+1100
TZOFFSETTO:+1000
TZNAME:AEST
DTSTART:20300406T160000
END:STANDARD
BEGIN:DAYLIGHT
TZOFFSETFROM:+1000
TZOFFSETTO:+1100
TZNAME:AEDT
DTSTART:20301005T160000
END:DAYLIGHT
END:VTIMEZONE
BEGIN:VEVENT
DTSTART;TZID=Australia/Sydney:20290802T193000
DTEND;TZID=Australia/Sydney:20290802T233000
DTSTAMP:20260420T095054
CREATED:20251110T013820Z
LAST-MODIFIED:20251110T023148Z
UID:10017750-1880393400-1880407800@canadabayclub.com.au
SUMMARY:Tommy D Duo
DESCRIPTION:
URL:https://canadabayclub.com.au/event/tommy-d-duo/2029-08-02/
LOCATION:Canada Bay Club\, 8 William Street\, Five Dock\, NSW\, 2046\, Australia
CATEGORIES:Weekly Entertainment
ATTACH;FMTTYPE=image/webp:https://canadabayclub.com.au/wp-content/uploads/2025/11/TommyDDuo-1.webp
END:VEVENT
BEGIN:VEVENT
DTSTART;TZID=Australia/Sydney:20290805T193000
DTEND;TZID=Australia/Sydney:20290805T230000
DTSTAMP:20260420T095054
CREATED:20250718T011650Z
LAST-MODIFIED:20250718T011651Z
UID:10017287-1880652600-1880665200@canadabayclub.com.au
SUMMARY:Verona
DESCRIPTION:Verona live at the Canada Bay Club. Join us for a night of live music and dancing. Tables can be booked in advance for a $50 reservation fee\, please see reception to arrange this in ahead of the evening.  \n\n\n\nEntry is free.  \n\n\n\nNote: Entertainment and room location subject to change without notice.
URL:https://canadabayclub.com.au/event/verona/2029-08-05/
LOCATION:Canada Bay Club\, 8 William Street\, Five Dock\, NSW\, 2046\, Australia
CATEGORIES:Weekly Entertainment
ATTACH;FMTTYPE=image/png:https://canadabayclub.com.au/wp-content/uploads/2024/06/verona-thumbnail.png
END:VEVENT
BEGIN:VEVENT
DTSTART;TZID=Australia/Sydney:20290809T193000
DTEND;TZID=Australia/Sydney:20290809T233000
DTSTAMP:20260420T095054
CREATED:20251110T013820Z
LAST-MODIFIED:20251110T023148Z
UID:10017751-1880998200-1881012600@canadabayclub.com.au
SUMMARY:Tommy D Duo
DESCRIPTION:
URL:https://canadabayclub.com.au/event/tommy-d-duo/2029-08-09/
LOCATION:Canada Bay Club\, 8 William Street\, Five Dock\, NSW\, 2046\, Australia
CATEGORIES:Weekly Entertainment
ATTACH;FMTTYPE=image/webp:https://canadabayclub.com.au/wp-content/uploads/2025/11/TommyDDuo-1.webp
END:VEVENT
BEGIN:VEVENT
DTSTART;TZID=Australia/Sydney:20290812T193000
DTEND;TZID=Australia/Sydney:20290812T230000
DTSTAMP:20260420T095054
CREATED:20250718T011650Z
LAST-MODIFIED:20250718T011651Z
UID:10017288-1881257400-1881270000@canadabayclub.com.au
SUMMARY:Verona
DESCRIPTION:Verona live at the Canada Bay Club. Join us for a night of live music and dancing. Tables can be booked in advance for a $50 reservation fee\, please see reception to arrange this in ahead of the evening.  \n\n\n\nEntry is free.  \n\n\n\nNote: Entertainment and room location subject to change without notice.
URL:https://canadabayclub.com.au/event/verona/2029-08-12/
LOCATION:Canada Bay Club\, 8 William Street\, Five Dock\, NSW\, 2046\, Australia
CATEGORIES:Weekly Entertainment
ATTACH;FMTTYPE=image/png:https://canadabayclub.com.au/wp-content/uploads/2024/06/verona-thumbnail.png
END:VEVENT
BEGIN:VEVENT
DTSTART;TZID=Australia/Sydney:20290816T193000
DTEND;TZID=Australia/Sydney:20290816T233000
DTSTAMP:20260420T095054
CREATED:20251110T013820Z
LAST-MODIFIED:20251110T023148Z
UID:10017752-1881603000-1881617400@canadabayclub.com.au
SUMMARY:Tommy D Duo
DESCRIPTION:
URL:https://canadabayclub.com.au/event/tommy-d-duo/2029-08-16/
LOCATION:Canada Bay Club\, 8 William Street\, Five Dock\, NSW\, 2046\, Australia
CATEGORIES:Weekly Entertainment
ATTACH;FMTTYPE=image/webp:https://canadabayclub.com.au/wp-content/uploads/2025/11/TommyDDuo-1.webp
END:VEVENT
BEGIN:VEVENT
DTSTART;TZID=Australia/Sydney:20290819T193000
DTEND;TZID=Australia/Sydney:20290819T230000
DTSTAMP:20260420T095054
CREATED:20250718T011650Z
LAST-MODIFIED:20250718T011651Z
UID:10017289-1881862200-1881874800@canadabayclub.com.au
SUMMARY:Verona
DESCRIPTION:Verona live at the Canada Bay Club. Join us for a night of live music and dancing. Tables can be booked in advance for a $50 reservation fee\, please see reception to arrange this in ahead of the evening.  \n\n\n\nEntry is free.  \n\n\n\nNote: Entertainment and room location subject to change without notice.
URL:https://canadabayclub.com.au/event/verona/2029-08-19/
LOCATION:Canada Bay Club\, 8 William Street\, Five Dock\, NSW\, 2046\, Australia
CATEGORIES:Weekly Entertainment
ATTACH;FMTTYPE=image/png:https://canadabayclub.com.au/wp-content/uploads/2024/06/verona-thumbnail.png
END:VEVENT
BEGIN:VEVENT
DTSTART;TZID=Australia/Sydney:20290823T193000
DTEND;TZID=Australia/Sydney:20290823T233000
DTSTAMP:20260420T095054
CREATED:20251110T013820Z
LAST-MODIFIED:20251110T023148Z
UID:10017753-1882207800-1882222200@canadabayclub.com.au
SUMMARY:Tommy D Duo
DESCRIPTION:
URL:https://canadabayclub.com.au/event/tommy-d-duo/2029-08-23/
LOCATION:Canada Bay Club\, 8 William Street\, Five Dock\, NSW\, 2046\, Australia
CATEGORIES:Weekly Entertainment
ATTACH;FMTTYPE=image/webp:https://canadabayclub.com.au/wp-content/uploads/2025/11/TommyDDuo-1.webp
END:VEVENT
BEGIN:VEVENT
DTSTART;TZID=Australia/Sydney:20290826T193000
DTEND;TZID=Australia/Sydney:20290826T230000
DTSTAMP:20260420T095054
CREATED:20250718T011650Z
LAST-MODIFIED:20250718T011651Z
UID:10017290-1882467000-1882479600@canadabayclub.com.au
SUMMARY:Verona
DESCRIPTION:Verona live at the Canada Bay Club. Join us for a night of live music and dancing. Tables can be booked in advance for a $50 reservation fee\, please see reception to arrange this in ahead of the evening.  \n\n\n\nEntry is free.  \n\n\n\nNote: Entertainment and room location subject to change without notice.
URL:https://canadabayclub.com.au/event/verona/2029-08-26/
LOCATION:Canada Bay Club\, 8 William Street\, Five Dock\, NSW\, 2046\, Australia
CATEGORIES:Weekly Entertainment
ATTACH;FMTTYPE=image/png:https://canadabayclub.com.au/wp-content/uploads/2024/06/verona-thumbnail.png
END:VEVENT
BEGIN:VEVENT
DTSTART;TZID=Australia/Sydney:20290830T193000
DTEND;TZID=Australia/Sydney:20290830T233000
DTSTAMP:20260420T095054
CREATED:20251110T013820Z
LAST-MODIFIED:20251110T023148Z
UID:10017754-1882812600-1882827000@canadabayclub.com.au
SUMMARY:Tommy D Duo
DESCRIPTION:
URL:https://canadabayclub.com.au/event/tommy-d-duo/2029-08-30/
LOCATION:Canada Bay Club\, 8 William Street\, Five Dock\, NSW\, 2046\, Australia
CATEGORIES:Weekly Entertainment
ATTACH;FMTTYPE=image/webp:https://canadabayclub.com.au/wp-content/uploads/2025/11/TommyDDuo-1.webp
END:VEVENT
END:VCALENDAR