BEGIN:VCALENDAR
VERSION:2.0
PRODID:-//Canada Bay Club - ECPv6.15.20//NONSGML v1.0//EN
CALSCALE:GREGORIAN
METHOD:PUBLISH
X-ORIGINAL-URL:https://canadabayclub.com.au
X-WR-CALDESC:Events for Canada Bay Club
REFRESH-INTERVAL;VALUE=DURATION:PT1H
X-Robots-Tag:noindex
X-PUBLISHED-TTL:PT1H
BEGIN:VTIMEZONE
TZID:Australia/Sydney
BEGIN:STANDARD
TZOFFSETFROM:+1100
TZOFFSETTO:+1000
TZNAME:AEST
DTSTART:20280401T160000
END:STANDARD
BEGIN:DAYLIGHT
TZOFFSETFROM:+1000
TZOFFSETTO:+1100
TZNAME:AEDT
DTSTART:20280930T160000
END:DAYLIGHT
BEGIN:STANDARD
TZOFFSETFROM:+1100
TZOFFSETTO:+1000
TZNAME:AEST
DTSTART:20290331T160000
END:STANDARD
BEGIN:DAYLIGHT
TZOFFSETFROM:+1000
TZOFFSETTO:+1100
TZNAME:AEDT
DTSTART:20291006T160000
END:DAYLIGHT
BEGIN:STANDARD
TZOFFSETFROM:+1100
TZOFFSETTO:+1000
TZNAME:AEST
DTSTART:20300406T160000
END:STANDARD
BEGIN:DAYLIGHT
TZOFFSETFROM:+1000
TZOFFSETTO:+1100
TZNAME:AEDT
DTSTART:20301005T160000
END:DAYLIGHT
END:VTIMEZONE
BEGIN:VEVENT
DTSTART;TZID=Australia/Sydney:20291101T193000
DTEND;TZID=Australia/Sydney:20291101T233000
DTSTAMP:20260420T150433
CREATED:20251110T013820Z
LAST-MODIFIED:20251110T023148Z
UID:10017763-1888255800-1888270200@canadabayclub.com.au
SUMMARY:Tommy D Duo
DESCRIPTION:
URL:https://canadabayclub.com.au/event/tommy-d-duo/2029-11-01/
LOCATION:Canada Bay Club\, 8 William Street\, Five Dock\, NSW\, 2046\, Australia
CATEGORIES:Weekly Entertainment
ATTACH;FMTTYPE=image/webp:https://canadabayclub.com.au/wp-content/uploads/2025/11/TommyDDuo-1.webp
END:VEVENT
BEGIN:VEVENT
DTSTART;TZID=Australia/Sydney:20291104T193000
DTEND;TZID=Australia/Sydney:20291104T230000
DTSTAMP:20260420T150433
CREATED:20250718T011650Z
LAST-MODIFIED:20250718T011651Z
UID:10017300-1888515000-1888527600@canadabayclub.com.au
SUMMARY:Verona
DESCRIPTION:Verona live at the Canada Bay Club. Join us for a night of live music and dancing. Tables can be booked in advance for a $50 reservation fee\, please see reception to arrange this in ahead of the evening.  \n\n\n\nEntry is free.  \n\n\n\nNote: Entertainment and room location subject to change without notice.
URL:https://canadabayclub.com.au/event/verona/2029-11-04/
LOCATION:Canada Bay Club\, 8 William Street\, Five Dock\, NSW\, 2046\, Australia
CATEGORIES:Weekly Entertainment
ATTACH;FMTTYPE=image/png:https://canadabayclub.com.au/wp-content/uploads/2024/06/verona-thumbnail.png
END:VEVENT
BEGIN:VEVENT
DTSTART;TZID=Australia/Sydney:20291108T193000
DTEND;TZID=Australia/Sydney:20291108T233000
DTSTAMP:20260420T150433
CREATED:20251110T013820Z
LAST-MODIFIED:20251110T023148Z
UID:10017764-1888860600-1888875000@canadabayclub.com.au
SUMMARY:Tommy D Duo
DESCRIPTION:
URL:https://canadabayclub.com.au/event/tommy-d-duo/2029-11-08/
LOCATION:Canada Bay Club\, 8 William Street\, Five Dock\, NSW\, 2046\, Australia
CATEGORIES:Weekly Entertainment
ATTACH;FMTTYPE=image/webp:https://canadabayclub.com.au/wp-content/uploads/2025/11/TommyDDuo-1.webp
END:VEVENT
BEGIN:VEVENT
DTSTART;TZID=Australia/Sydney:20291111T193000
DTEND;TZID=Australia/Sydney:20291111T230000
DTSTAMP:20260420T150433
CREATED:20250718T011650Z
LAST-MODIFIED:20250718T011651Z
UID:10017301-1889119800-1889132400@canadabayclub.com.au
SUMMARY:Verona
DESCRIPTION:Verona live at the Canada Bay Club. Join us for a night of live music and dancing. Tables can be booked in advance for a $50 reservation fee\, please see reception to arrange this in ahead of the evening.  \n\n\n\nEntry is free.  \n\n\n\nNote: Entertainment and room location subject to change without notice.
URL:https://canadabayclub.com.au/event/verona/2029-11-11/
LOCATION:Canada Bay Club\, 8 William Street\, Five Dock\, NSW\, 2046\, Australia
CATEGORIES:Weekly Entertainment
ATTACH;FMTTYPE=image/png:https://canadabayclub.com.au/wp-content/uploads/2024/06/verona-thumbnail.png
END:VEVENT
BEGIN:VEVENT
DTSTART;TZID=Australia/Sydney:20291115T193000
DTEND;TZID=Australia/Sydney:20291115T233000
DTSTAMP:20260420T150433
CREATED:20251110T013820Z
LAST-MODIFIED:20251110T023148Z
UID:10017765-1889465400-1889479800@canadabayclub.com.au
SUMMARY:Tommy D Duo
DESCRIPTION:
URL:https://canadabayclub.com.au/event/tommy-d-duo/2029-11-15/
LOCATION:Canada Bay Club\, 8 William Street\, Five Dock\, NSW\, 2046\, Australia
CATEGORIES:Weekly Entertainment
ATTACH;FMTTYPE=image/webp:https://canadabayclub.com.au/wp-content/uploads/2025/11/TommyDDuo-1.webp
END:VEVENT
BEGIN:VEVENT
DTSTART;TZID=Australia/Sydney:20291118T193000
DTEND;TZID=Australia/Sydney:20291118T230000
DTSTAMP:20260420T150433
CREATED:20250718T011650Z
LAST-MODIFIED:20250718T011651Z
UID:10017302-1889724600-1889737200@canadabayclub.com.au
SUMMARY:Verona
DESCRIPTION:Verona live at the Canada Bay Club. Join us for a night of live music and dancing. Tables can be booked in advance for a $50 reservation fee\, please see reception to arrange this in ahead of the evening.  \n\n\n\nEntry is free.  \n\n\n\nNote: Entertainment and room location subject to change without notice.
URL:https://canadabayclub.com.au/event/verona/2029-11-18/
LOCATION:Canada Bay Club\, 8 William Street\, Five Dock\, NSW\, 2046\, Australia
CATEGORIES:Weekly Entertainment
ATTACH;FMTTYPE=image/png:https://canadabayclub.com.au/wp-content/uploads/2024/06/verona-thumbnail.png
END:VEVENT
BEGIN:VEVENT
DTSTART;TZID=Australia/Sydney:20291122T193000
DTEND;TZID=Australia/Sydney:20291122T233000
DTSTAMP:20260420T150433
CREATED:20251110T013820Z
LAST-MODIFIED:20251110T023148Z
UID:10017766-1890070200-1890084600@canadabayclub.com.au
SUMMARY:Tommy D Duo
DESCRIPTION:
URL:https://canadabayclub.com.au/event/tommy-d-duo/2029-11-22/
LOCATION:Canada Bay Club\, 8 William Street\, Five Dock\, NSW\, 2046\, Australia
CATEGORIES:Weekly Entertainment
ATTACH;FMTTYPE=image/webp:https://canadabayclub.com.au/wp-content/uploads/2025/11/TommyDDuo-1.webp
END:VEVENT
BEGIN:VEVENT
DTSTART;TZID=Australia/Sydney:20291125T193000
DTEND;TZID=Australia/Sydney:20291125T230000
DTSTAMP:20260420T150433
CREATED:20250718T011650Z
LAST-MODIFIED:20250718T011651Z
UID:10017303-1890329400-1890342000@canadabayclub.com.au
SUMMARY:Verona
DESCRIPTION:Verona live at the Canada Bay Club. Join us for a night of live music and dancing. Tables can be booked in advance for a $50 reservation fee\, please see reception to arrange this in ahead of the evening.  \n\n\n\nEntry is free.  \n\n\n\nNote: Entertainment and room location subject to change without notice.
URL:https://canadabayclub.com.au/event/verona/2029-11-25/
LOCATION:Canada Bay Club\, 8 William Street\, Five Dock\, NSW\, 2046\, Australia
CATEGORIES:Weekly Entertainment
ATTACH;FMTTYPE=image/png:https://canadabayclub.com.au/wp-content/uploads/2024/06/verona-thumbnail.png
END:VEVENT
BEGIN:VEVENT
DTSTART;TZID=Australia/Sydney:20291129T193000
DTEND;TZID=Australia/Sydney:20291129T233000
DTSTAMP:20260420T150433
CREATED:20251110T013820Z
LAST-MODIFIED:20251110T023148Z
UID:10017767-1890675000-1890689400@canadabayclub.com.au
SUMMARY:Tommy D Duo
DESCRIPTION:
URL:https://canadabayclub.com.au/event/tommy-d-duo/2029-11-29/
LOCATION:Canada Bay Club\, 8 William Street\, Five Dock\, NSW\, 2046\, Australia
CATEGORIES:Weekly Entertainment
ATTACH;FMTTYPE=image/webp:https://canadabayclub.com.au/wp-content/uploads/2025/11/TommyDDuo-1.webp
END:VEVENT
END:VCALENDAR