BEGIN:VCALENDAR
VERSION:2.0
PRODID:-//Canada Bay Club - ECPv6.15.20//NONSGML v1.0//EN
CALSCALE:GREGORIAN
METHOD:PUBLISH
X-ORIGINAL-URL:https://canadabayclub.com.au
X-WR-CALDESC:Events for Canada Bay Club
REFRESH-INTERVAL;VALUE=DURATION:PT1H
X-Robots-Tag:noindex
X-PUBLISHED-TTL:PT1H
BEGIN:VTIMEZONE
TZID:Australia/Sydney
BEGIN:STANDARD
TZOFFSETFROM:+1100
TZOFFSETTO:+1000
TZNAME:AEST
DTSTART:20280401T160000
END:STANDARD
BEGIN:DAYLIGHT
TZOFFSETFROM:+1000
TZOFFSETTO:+1100
TZNAME:AEDT
DTSTART:20280930T160000
END:DAYLIGHT
BEGIN:STANDARD
TZOFFSETFROM:+1100
TZOFFSETTO:+1000
TZNAME:AEST
DTSTART:20290331T160000
END:STANDARD
BEGIN:DAYLIGHT
TZOFFSETFROM:+1000
TZOFFSETTO:+1100
TZNAME:AEDT
DTSTART:20291006T160000
END:DAYLIGHT
BEGIN:STANDARD
TZOFFSETFROM:+1100
TZOFFSETTO:+1000
TZNAME:AEST
DTSTART:20300406T160000
END:STANDARD
BEGIN:DAYLIGHT
TZOFFSETFROM:+1000
TZOFFSETTO:+1100
TZNAME:AEDT
DTSTART:20301005T160000
END:DAYLIGHT
END:VTIMEZONE
BEGIN:VEVENT
DTSTART;TZID=Australia/Sydney:20291202T193000
DTEND;TZID=Australia/Sydney:20291202T230000
DTSTAMP:20260420T164221
CREATED:20250718T011650Z
LAST-MODIFIED:20250718T011651Z
UID:10017304-1890934200-1890946800@canadabayclub.com.au
SUMMARY:Verona
DESCRIPTION:Verona live at the Canada Bay Club. Join us for a night of live music and dancing. Tables can be booked in advance for a $50 reservation fee\, please see reception to arrange this in ahead of the evening.  \n\n\n\nEntry is free.  \n\n\n\nNote: Entertainment and room location subject to change without notice.
URL:https://canadabayclub.com.au/event/verona/2029-12-02/
LOCATION:Canada Bay Club\, 8 William Street\, Five Dock\, NSW\, 2046\, Australia
CATEGORIES:Weekly Entertainment
ATTACH;FMTTYPE=image/png:https://canadabayclub.com.au/wp-content/uploads/2024/06/verona-thumbnail.png
END:VEVENT
BEGIN:VEVENT
DTSTART;TZID=Australia/Sydney:20291206T193000
DTEND;TZID=Australia/Sydney:20291206T233000
DTSTAMP:20260420T164221
CREATED:20251110T013820Z
LAST-MODIFIED:20251110T023148Z
UID:10017768-1891279800-1891294200@canadabayclub.com.au
SUMMARY:Tommy D Duo
DESCRIPTION:
URL:https://canadabayclub.com.au/event/tommy-d-duo/2029-12-06/
LOCATION:Canada Bay Club\, 8 William Street\, Five Dock\, NSW\, 2046\, Australia
CATEGORIES:Weekly Entertainment
ATTACH;FMTTYPE=image/webp:https://canadabayclub.com.au/wp-content/uploads/2025/11/TommyDDuo-1.webp
END:VEVENT
BEGIN:VEVENT
DTSTART;TZID=Australia/Sydney:20291209T193000
DTEND;TZID=Australia/Sydney:20291209T230000
DTSTAMP:20260420T164221
CREATED:20250718T011650Z
LAST-MODIFIED:20250718T011651Z
UID:10017305-1891539000-1891551600@canadabayclub.com.au
SUMMARY:Verona
DESCRIPTION:Verona live at the Canada Bay Club. Join us for a night of live music and dancing. Tables can be booked in advance for a $50 reservation fee\, please see reception to arrange this in ahead of the evening.  \n\n\n\nEntry is free.  \n\n\n\nNote: Entertainment and room location subject to change without notice.
URL:https://canadabayclub.com.au/event/verona/2029-12-09/
LOCATION:Canada Bay Club\, 8 William Street\, Five Dock\, NSW\, 2046\, Australia
CATEGORIES:Weekly Entertainment
ATTACH;FMTTYPE=image/png:https://canadabayclub.com.au/wp-content/uploads/2024/06/verona-thumbnail.png
END:VEVENT
BEGIN:VEVENT
DTSTART;TZID=Australia/Sydney:20291213T193000
DTEND;TZID=Australia/Sydney:20291213T233000
DTSTAMP:20260420T164221
CREATED:20251110T013820Z
LAST-MODIFIED:20251110T023148Z
UID:10017769-1891884600-1891899000@canadabayclub.com.au
SUMMARY:Tommy D Duo
DESCRIPTION:
URL:https://canadabayclub.com.au/event/tommy-d-duo/2029-12-13/
LOCATION:Canada Bay Club\, 8 William Street\, Five Dock\, NSW\, 2046\, Australia
CATEGORIES:Weekly Entertainment
ATTACH;FMTTYPE=image/webp:https://canadabayclub.com.au/wp-content/uploads/2025/11/TommyDDuo-1.webp
END:VEVENT
BEGIN:VEVENT
DTSTART;TZID=Australia/Sydney:20291216T193000
DTEND;TZID=Australia/Sydney:20291216T230000
DTSTAMP:20260420T164221
CREATED:20250718T011650Z
LAST-MODIFIED:20250718T011651Z
UID:10017306-1892143800-1892156400@canadabayclub.com.au
SUMMARY:Verona
DESCRIPTION:Verona live at the Canada Bay Club. Join us for a night of live music and dancing. Tables can be booked in advance for a $50 reservation fee\, please see reception to arrange this in ahead of the evening.  \n\n\n\nEntry is free.  \n\n\n\nNote: Entertainment and room location subject to change without notice.
URL:https://canadabayclub.com.au/event/verona/2029-12-16/
LOCATION:Canada Bay Club\, 8 William Street\, Five Dock\, NSW\, 2046\, Australia
CATEGORIES:Weekly Entertainment
ATTACH;FMTTYPE=image/png:https://canadabayclub.com.au/wp-content/uploads/2024/06/verona-thumbnail.png
END:VEVENT
BEGIN:VEVENT
DTSTART;TZID=Australia/Sydney:20291220T193000
DTEND;TZID=Australia/Sydney:20291220T233000
DTSTAMP:20260420T164221
CREATED:20251110T013820Z
LAST-MODIFIED:20251110T023148Z
UID:10017770-1892489400-1892503800@canadabayclub.com.au
SUMMARY:Tommy D Duo
DESCRIPTION:
URL:https://canadabayclub.com.au/event/tommy-d-duo/2029-12-20/
LOCATION:Canada Bay Club\, 8 William Street\, Five Dock\, NSW\, 2046\, Australia
CATEGORIES:Weekly Entertainment
ATTACH;FMTTYPE=image/webp:https://canadabayclub.com.au/wp-content/uploads/2025/11/TommyDDuo-1.webp
END:VEVENT
BEGIN:VEVENT
DTSTART;TZID=Australia/Sydney:20291223T193000
DTEND;TZID=Australia/Sydney:20291223T230000
DTSTAMP:20260420T164221
CREATED:20250718T011650Z
LAST-MODIFIED:20250718T011651Z
UID:10017307-1892748600-1892761200@canadabayclub.com.au
SUMMARY:Verona
DESCRIPTION:Verona live at the Canada Bay Club. Join us for a night of live music and dancing. Tables can be booked in advance for a $50 reservation fee\, please see reception to arrange this in ahead of the evening.  \n\n\n\nEntry is free.  \n\n\n\nNote: Entertainment and room location subject to change without notice.
URL:https://canadabayclub.com.au/event/verona/2029-12-23/
LOCATION:Canada Bay Club\, 8 William Street\, Five Dock\, NSW\, 2046\, Australia
CATEGORIES:Weekly Entertainment
ATTACH;FMTTYPE=image/png:https://canadabayclub.com.au/wp-content/uploads/2024/06/verona-thumbnail.png
END:VEVENT
BEGIN:VEVENT
DTSTART;TZID=Australia/Sydney:20291227T193000
DTEND;TZID=Australia/Sydney:20291227T233000
DTSTAMP:20260420T164221
CREATED:20251110T013820Z
LAST-MODIFIED:20251110T023148Z
UID:10017771-1893094200-1893108600@canadabayclub.com.au
SUMMARY:Tommy D Duo
DESCRIPTION:
URL:https://canadabayclub.com.au/event/tommy-d-duo/2029-12-27/
LOCATION:Canada Bay Club\, 8 William Street\, Five Dock\, NSW\, 2046\, Australia
CATEGORIES:Weekly Entertainment
ATTACH;FMTTYPE=image/webp:https://canadabayclub.com.au/wp-content/uploads/2025/11/TommyDDuo-1.webp
END:VEVENT
BEGIN:VEVENT
DTSTART;TZID=Australia/Sydney:20291230T193000
DTEND;TZID=Australia/Sydney:20291230T230000
DTSTAMP:20260420T164221
CREATED:20250718T011650Z
LAST-MODIFIED:20250718T011651Z
UID:10017308-1893353400-1893366000@canadabayclub.com.au
SUMMARY:Verona
DESCRIPTION:Verona live at the Canada Bay Club. Join us for a night of live music and dancing. Tables can be booked in advance for a $50 reservation fee\, please see reception to arrange this in ahead of the evening.  \n\n\n\nEntry is free.  \n\n\n\nNote: Entertainment and room location subject to change without notice.
URL:https://canadabayclub.com.au/event/verona/2029-12-30/
LOCATION:Canada Bay Club\, 8 William Street\, Five Dock\, NSW\, 2046\, Australia
CATEGORIES:Weekly Entertainment
ATTACH;FMTTYPE=image/png:https://canadabayclub.com.au/wp-content/uploads/2024/06/verona-thumbnail.png
END:VEVENT
END:VCALENDAR