BEGIN:VCALENDAR
VERSION:2.0
PRODID:-//Canada Bay Club - ECPv6.15.20//NONSGML v1.0//EN
CALSCALE:GREGORIAN
METHOD:PUBLISH
X-ORIGINAL-URL:https://canadabayclub.com.au
X-WR-CALDESC:Events for Canada Bay Club
REFRESH-INTERVAL;VALUE=DURATION:PT1H
X-Robots-Tag:noindex
X-PUBLISHED-TTL:PT1H
BEGIN:VTIMEZONE
TZID:Australia/Sydney
BEGIN:STANDARD
TZOFFSETFROM:+1100
TZOFFSETTO:+1000
TZNAME:AEST
DTSTART:20290331T160000
END:STANDARD
BEGIN:DAYLIGHT
TZOFFSETFROM:+1000
TZOFFSETTO:+1100
TZNAME:AEDT
DTSTART:20291006T160000
END:DAYLIGHT
BEGIN:STANDARD
TZOFFSETFROM:+1100
TZOFFSETTO:+1000
TZNAME:AEST
DTSTART:20300406T160000
END:STANDARD
BEGIN:DAYLIGHT
TZOFFSETFROM:+1000
TZOFFSETTO:+1100
TZNAME:AEDT
DTSTART:20301005T160000
END:DAYLIGHT
BEGIN:STANDARD
TZOFFSETFROM:+1100
TZOFFSETTO:+1000
TZNAME:AEST
DTSTART:20310405T160000
END:STANDARD
BEGIN:DAYLIGHT
TZOFFSETFROM:+1000
TZOFFSETTO:+1100
TZNAME:AEDT
DTSTART:20311004T160000
END:DAYLIGHT
END:VTIMEZONE
BEGIN:VEVENT
DTSTART;TZID=Australia/Sydney:20300303T193000
DTEND;TZID=Australia/Sydney:20300303T230000
DTSTAMP:20260420T215409
CREATED:20250718T011650Z
LAST-MODIFIED:20250718T011651Z
UID:10017317-1898796600-1898809200@canadabayclub.com.au
SUMMARY:Verona
DESCRIPTION:Verona live at the Canada Bay Club. Join us for a night of live music and dancing. Tables can be booked in advance for a $50 reservation fee\, please see reception to arrange this in ahead of the evening.  \n\n\n\nEntry is free.  \n\n\n\nNote: Entertainment and room location subject to change without notice.
URL:https://canadabayclub.com.au/event/verona/2030-03-03/
LOCATION:Canada Bay Club\, 8 William Street\, Five Dock\, NSW\, 2046\, Australia
CATEGORIES:Weekly Entertainment
ATTACH;FMTTYPE=image/png:https://canadabayclub.com.au/wp-content/uploads/2024/06/verona-thumbnail.png
END:VEVENT
BEGIN:VEVENT
DTSTART;TZID=Australia/Sydney:20300307T193000
DTEND;TZID=Australia/Sydney:20300307T233000
DTSTAMP:20260420T215409
CREATED:20251110T013820Z
LAST-MODIFIED:20251110T023148Z
UID:10017781-1899142200-1899156600@canadabayclub.com.au
SUMMARY:Tommy D Duo
DESCRIPTION:
URL:https://canadabayclub.com.au/event/tommy-d-duo/2030-03-07/
LOCATION:Canada Bay Club\, 8 William Street\, Five Dock\, NSW\, 2046\, Australia
CATEGORIES:Weekly Entertainment
ATTACH;FMTTYPE=image/webp:https://canadabayclub.com.au/wp-content/uploads/2025/11/TommyDDuo-1.webp
END:VEVENT
BEGIN:VEVENT
DTSTART;TZID=Australia/Sydney:20300310T193000
DTEND;TZID=Australia/Sydney:20300310T230000
DTSTAMP:20260420T215409
CREATED:20250718T011650Z
LAST-MODIFIED:20250718T011651Z
UID:10017318-1899401400-1899414000@canadabayclub.com.au
SUMMARY:Verona
DESCRIPTION:Verona live at the Canada Bay Club. Join us for a night of live music and dancing. Tables can be booked in advance for a $50 reservation fee\, please see reception to arrange this in ahead of the evening.  \n\n\n\nEntry is free.  \n\n\n\nNote: Entertainment and room location subject to change without notice.
URL:https://canadabayclub.com.au/event/verona/2030-03-10/
LOCATION:Canada Bay Club\, 8 William Street\, Five Dock\, NSW\, 2046\, Australia
CATEGORIES:Weekly Entertainment
ATTACH;FMTTYPE=image/png:https://canadabayclub.com.au/wp-content/uploads/2024/06/verona-thumbnail.png
END:VEVENT
BEGIN:VEVENT
DTSTART;TZID=Australia/Sydney:20300314T193000
DTEND;TZID=Australia/Sydney:20300314T233000
DTSTAMP:20260420T215409
CREATED:20251110T013820Z
LAST-MODIFIED:20251110T023148Z
UID:10017782-1899747000-1899761400@canadabayclub.com.au
SUMMARY:Tommy D Duo
DESCRIPTION:
URL:https://canadabayclub.com.au/event/tommy-d-duo/2030-03-14/
LOCATION:Canada Bay Club\, 8 William Street\, Five Dock\, NSW\, 2046\, Australia
CATEGORIES:Weekly Entertainment
ATTACH;FMTTYPE=image/webp:https://canadabayclub.com.au/wp-content/uploads/2025/11/TommyDDuo-1.webp
END:VEVENT
BEGIN:VEVENT
DTSTART;TZID=Australia/Sydney:20300317T193000
DTEND;TZID=Australia/Sydney:20300317T230000
DTSTAMP:20260420T215409
CREATED:20250718T011650Z
LAST-MODIFIED:20250718T011651Z
UID:10017319-1900006200-1900018800@canadabayclub.com.au
SUMMARY:Verona
DESCRIPTION:Verona live at the Canada Bay Club. Join us for a night of live music and dancing. Tables can be booked in advance for a $50 reservation fee\, please see reception to arrange this in ahead of the evening.  \n\n\n\nEntry is free.  \n\n\n\nNote: Entertainment and room location subject to change without notice.
URL:https://canadabayclub.com.au/event/verona/2030-03-17/
LOCATION:Canada Bay Club\, 8 William Street\, Five Dock\, NSW\, 2046\, Australia
CATEGORIES:Weekly Entertainment
ATTACH;FMTTYPE=image/png:https://canadabayclub.com.au/wp-content/uploads/2024/06/verona-thumbnail.png
END:VEVENT
BEGIN:VEVENT
DTSTART;TZID=Australia/Sydney:20300321T193000
DTEND;TZID=Australia/Sydney:20300321T233000
DTSTAMP:20260420T215409
CREATED:20251110T013820Z
LAST-MODIFIED:20251110T023148Z
UID:10017783-1900351800-1900366200@canadabayclub.com.au
SUMMARY:Tommy D Duo
DESCRIPTION:
URL:https://canadabayclub.com.au/event/tommy-d-duo/2030-03-21/
LOCATION:Canada Bay Club\, 8 William Street\, Five Dock\, NSW\, 2046\, Australia
CATEGORIES:Weekly Entertainment
ATTACH;FMTTYPE=image/webp:https://canadabayclub.com.au/wp-content/uploads/2025/11/TommyDDuo-1.webp
END:VEVENT
BEGIN:VEVENT
DTSTART;TZID=Australia/Sydney:20300324T193000
DTEND;TZID=Australia/Sydney:20300324T230000
DTSTAMP:20260420T215409
CREATED:20250718T011650Z
LAST-MODIFIED:20250718T011651Z
UID:10017320-1900611000-1900623600@canadabayclub.com.au
SUMMARY:Verona
DESCRIPTION:Verona live at the Canada Bay Club. Join us for a night of live music and dancing. Tables can be booked in advance for a $50 reservation fee\, please see reception to arrange this in ahead of the evening.  \n\n\n\nEntry is free.  \n\n\n\nNote: Entertainment and room location subject to change without notice.
URL:https://canadabayclub.com.au/event/verona/2030-03-24/
LOCATION:Canada Bay Club\, 8 William Street\, Five Dock\, NSW\, 2046\, Australia
CATEGORIES:Weekly Entertainment
ATTACH;FMTTYPE=image/png:https://canadabayclub.com.au/wp-content/uploads/2024/06/verona-thumbnail.png
END:VEVENT
BEGIN:VEVENT
DTSTART;TZID=Australia/Sydney:20300328T193000
DTEND;TZID=Australia/Sydney:20300328T233000
DTSTAMP:20260420T215409
CREATED:20251110T013820Z
LAST-MODIFIED:20251110T023148Z
UID:10017784-1900956600-1900971000@canadabayclub.com.au
SUMMARY:Tommy D Duo
DESCRIPTION:
URL:https://canadabayclub.com.au/event/tommy-d-duo/2030-03-28/
LOCATION:Canada Bay Club\, 8 William Street\, Five Dock\, NSW\, 2046\, Australia
CATEGORIES:Weekly Entertainment
ATTACH;FMTTYPE=image/webp:https://canadabayclub.com.au/wp-content/uploads/2025/11/TommyDDuo-1.webp
END:VEVENT
BEGIN:VEVENT
DTSTART;TZID=Australia/Sydney:20300331T193000
DTEND;TZID=Australia/Sydney:20300331T230000
DTSTAMP:20260420T215409
CREATED:20250718T011650Z
LAST-MODIFIED:20250718T011651Z
UID:10017321-1901215800-1901228400@canadabayclub.com.au
SUMMARY:Verona
DESCRIPTION:Verona live at the Canada Bay Club. Join us for a night of live music and dancing. Tables can be booked in advance for a $50 reservation fee\, please see reception to arrange this in ahead of the evening.  \n\n\n\nEntry is free.  \n\n\n\nNote: Entertainment and room location subject to change without notice.
URL:https://canadabayclub.com.au/event/verona/2030-03-31/
LOCATION:Canada Bay Club\, 8 William Street\, Five Dock\, NSW\, 2046\, Australia
CATEGORIES:Weekly Entertainment
ATTACH;FMTTYPE=image/png:https://canadabayclub.com.au/wp-content/uploads/2024/06/verona-thumbnail.png
END:VEVENT
END:VCALENDAR