BEGIN:VCALENDAR
VERSION:2.0
PRODID:-//Canada Bay Club - ECPv6.15.20//NONSGML v1.0//EN
CALSCALE:GREGORIAN
METHOD:PUBLISH
X-WR-CALNAME:Canada Bay Club
X-ORIGINAL-URL:https://canadabayclub.com.au
X-WR-CALDESC:Events for Canada Bay Club
REFRESH-INTERVAL;VALUE=DURATION:PT1H
X-Robots-Tag:noindex
X-PUBLISHED-TTL:PT1H
BEGIN:VTIMEZONE
TZID:Australia/Sydney
BEGIN:STANDARD
TZOFFSETFROM:+1100
TZOFFSETTO:+1000
TZNAME:AEST
DTSTART:20290331T160000
END:STANDARD
BEGIN:DAYLIGHT
TZOFFSETFROM:+1000
TZOFFSETTO:+1100
TZNAME:AEDT
DTSTART:20291006T160000
END:DAYLIGHT
BEGIN:STANDARD
TZOFFSETFROM:+1100
TZOFFSETTO:+1000
TZNAME:AEST
DTSTART:20300406T160000
END:STANDARD
BEGIN:DAYLIGHT
TZOFFSETFROM:+1000
TZOFFSETTO:+1100
TZNAME:AEDT
DTSTART:20301005T160000
END:DAYLIGHT
BEGIN:STANDARD
TZOFFSETFROM:+1100
TZOFFSETTO:+1000
TZNAME:AEST
DTSTART:20310405T160000
END:STANDARD
BEGIN:DAYLIGHT
TZOFFSETFROM:+1000
TZOFFSETTO:+1100
TZNAME:AEDT
DTSTART:20311004T160000
END:DAYLIGHT
END:VTIMEZONE
BEGIN:VEVENT
DTSTART;TZID=Australia/Sydney:20300602T193000
DTEND;TZID=Australia/Sydney:20300602T230000
DTSTAMP:20260421T025404
CREATED:20250718T011650Z
LAST-MODIFIED:20250718T011651Z
UID:10017330-1906659000-1906671600@canadabayclub.com.au
SUMMARY:Verona
DESCRIPTION:Verona live at the Canada Bay Club. Join us for a night of live music and dancing. Tables can be booked in advance for a $50 reservation fee\, please see reception to arrange this in ahead of the evening.  \n\n\n\nEntry is free.  \n\n\n\nNote: Entertainment and room location subject to change without notice.
URL:https://canadabayclub.com.au/event/verona/2030-06-02/
LOCATION:Canada Bay Club\, 8 William Street\, Five Dock\, NSW\, 2046\, Australia
CATEGORIES:Weekly Entertainment
ATTACH;FMTTYPE=image/png:https://canadabayclub.com.au/wp-content/uploads/2024/06/verona-thumbnail.png
END:VEVENT
BEGIN:VEVENT
DTSTART;TZID=Australia/Sydney:20300606T193000
DTEND;TZID=Australia/Sydney:20300606T233000
DTSTAMP:20260421T025404
CREATED:20251110T013820Z
LAST-MODIFIED:20251110T023148Z
UID:10017794-1907004600-1907019000@canadabayclub.com.au
SUMMARY:Tommy D Duo
DESCRIPTION:
URL:https://canadabayclub.com.au/event/tommy-d-duo/2030-06-06/
LOCATION:Canada Bay Club\, 8 William Street\, Five Dock\, NSW\, 2046\, Australia
CATEGORIES:Weekly Entertainment
ATTACH;FMTTYPE=image/webp:https://canadabayclub.com.au/wp-content/uploads/2025/11/TommyDDuo-1.webp
END:VEVENT
BEGIN:VEVENT
DTSTART;TZID=Australia/Sydney:20300609T193000
DTEND;TZID=Australia/Sydney:20300609T230000
DTSTAMP:20260421T025404
CREATED:20250718T011650Z
LAST-MODIFIED:20250718T011651Z
UID:10017331-1907263800-1907276400@canadabayclub.com.au
SUMMARY:Verona
DESCRIPTION:Verona live at the Canada Bay Club. Join us for a night of live music and dancing. Tables can be booked in advance for a $50 reservation fee\, please see reception to arrange this in ahead of the evening.  \n\n\n\nEntry is free.  \n\n\n\nNote: Entertainment and room location subject to change without notice.
URL:https://canadabayclub.com.au/event/verona/2030-06-09/
LOCATION:Canada Bay Club\, 8 William Street\, Five Dock\, NSW\, 2046\, Australia
CATEGORIES:Weekly Entertainment
ATTACH;FMTTYPE=image/png:https://canadabayclub.com.au/wp-content/uploads/2024/06/verona-thumbnail.png
END:VEVENT
BEGIN:VEVENT
DTSTART;TZID=Australia/Sydney:20300613T193000
DTEND;TZID=Australia/Sydney:20300613T233000
DTSTAMP:20260421T025404
CREATED:20251110T013820Z
LAST-MODIFIED:20251110T023148Z
UID:10017795-1907609400-1907623800@canadabayclub.com.au
SUMMARY:Tommy D Duo
DESCRIPTION:
URL:https://canadabayclub.com.au/event/tommy-d-duo/2030-06-13/
LOCATION:Canada Bay Club\, 8 William Street\, Five Dock\, NSW\, 2046\, Australia
CATEGORIES:Weekly Entertainment
ATTACH;FMTTYPE=image/webp:https://canadabayclub.com.au/wp-content/uploads/2025/11/TommyDDuo-1.webp
END:VEVENT
BEGIN:VEVENT
DTSTART;TZID=Australia/Sydney:20300616T193000
DTEND;TZID=Australia/Sydney:20300616T230000
DTSTAMP:20260421T025404
CREATED:20250718T011650Z
LAST-MODIFIED:20250718T011651Z
UID:10017332-1907868600-1907881200@canadabayclub.com.au
SUMMARY:Verona
DESCRIPTION:Verona live at the Canada Bay Club. Join us for a night of live music and dancing. Tables can be booked in advance for a $50 reservation fee\, please see reception to arrange this in ahead of the evening.  \n\n\n\nEntry is free.  \n\n\n\nNote: Entertainment and room location subject to change without notice.
URL:https://canadabayclub.com.au/event/verona/2030-06-16/
LOCATION:Canada Bay Club\, 8 William Street\, Five Dock\, NSW\, 2046\, Australia
CATEGORIES:Weekly Entertainment
ATTACH;FMTTYPE=image/png:https://canadabayclub.com.au/wp-content/uploads/2024/06/verona-thumbnail.png
END:VEVENT
BEGIN:VEVENT
DTSTART;TZID=Australia/Sydney:20300620T193000
DTEND;TZID=Australia/Sydney:20300620T233000
DTSTAMP:20260421T025404
CREATED:20251110T013820Z
LAST-MODIFIED:20251110T023148Z
UID:10017796-1908214200-1908228600@canadabayclub.com.au
SUMMARY:Tommy D Duo
DESCRIPTION:
URL:https://canadabayclub.com.au/event/tommy-d-duo/2030-06-20/
LOCATION:Canada Bay Club\, 8 William Street\, Five Dock\, NSW\, 2046\, Australia
CATEGORIES:Weekly Entertainment
ATTACH;FMTTYPE=image/webp:https://canadabayclub.com.au/wp-content/uploads/2025/11/TommyDDuo-1.webp
END:VEVENT
BEGIN:VEVENT
DTSTART;TZID=Australia/Sydney:20300623T193000
DTEND;TZID=Australia/Sydney:20300623T230000
DTSTAMP:20260421T025404
CREATED:20250718T011650Z
LAST-MODIFIED:20250718T011651Z
UID:10017333-1908473400-1908486000@canadabayclub.com.au
SUMMARY:Verona
DESCRIPTION:Verona live at the Canada Bay Club. Join us for a night of live music and dancing. Tables can be booked in advance for a $50 reservation fee\, please see reception to arrange this in ahead of the evening.  \n\n\n\nEntry is free.  \n\n\n\nNote: Entertainment and room location subject to change without notice.
URL:https://canadabayclub.com.au/event/verona/2030-06-23/
LOCATION:Canada Bay Club\, 8 William Street\, Five Dock\, NSW\, 2046\, Australia
CATEGORIES:Weekly Entertainment
ATTACH;FMTTYPE=image/png:https://canadabayclub.com.au/wp-content/uploads/2024/06/verona-thumbnail.png
END:VEVENT
BEGIN:VEVENT
DTSTART;TZID=Australia/Sydney:20300627T193000
DTEND;TZID=Australia/Sydney:20300627T233000
DTSTAMP:20260421T025404
CREATED:20251110T013820Z
LAST-MODIFIED:20251110T023148Z
UID:10017797-1908819000-1908833400@canadabayclub.com.au
SUMMARY:Tommy D Duo
DESCRIPTION:
URL:https://canadabayclub.com.au/event/tommy-d-duo/2030-06-27/
LOCATION:Canada Bay Club\, 8 William Street\, Five Dock\, NSW\, 2046\, Australia
CATEGORIES:Weekly Entertainment
ATTACH;FMTTYPE=image/webp:https://canadabayclub.com.au/wp-content/uploads/2025/11/TommyDDuo-1.webp
END:VEVENT
BEGIN:VEVENT
DTSTART;TZID=Australia/Sydney:20300630T193000
DTEND;TZID=Australia/Sydney:20300630T230000
DTSTAMP:20260421T025404
CREATED:20250718T011650Z
LAST-MODIFIED:20250718T011651Z
UID:10017334-1909078200-1909090800@canadabayclub.com.au
SUMMARY:Verona
DESCRIPTION:Verona live at the Canada Bay Club. Join us for a night of live music and dancing. Tables can be booked in advance for a $50 reservation fee\, please see reception to arrange this in ahead of the evening.  \n\n\n\nEntry is free.  \n\n\n\nNote: Entertainment and room location subject to change without notice.
URL:https://canadabayclub.com.au/event/verona/2030-06-30/
LOCATION:Canada Bay Club\, 8 William Street\, Five Dock\, NSW\, 2046\, Australia
CATEGORIES:Weekly Entertainment
ATTACH;FMTTYPE=image/png:https://canadabayclub.com.au/wp-content/uploads/2024/06/verona-thumbnail.png
END:VEVENT
END:VCALENDAR